BEGIN:VCALENDAR
VERSION:2.0
PRODID:-//Jefferson Matters - ECPv6.15.20//NONSGML v1.0//EN
CALSCALE:GREGORIAN
METHOD:PUBLISH
X-WR-CALNAME:Jefferson Matters
X-ORIGINAL-URL:https://jeffersonmatters.org
X-WR-CALDESC:Events for Jefferson Matters
REFRESH-INTERVAL;VALUE=DURATION:PT1H
X-Robots-Tag:noindex
X-PUBLISHED-TTL:PT1H
BEGIN:VTIMEZONE
TZID:America/Chicago
BEGIN:DAYLIGHT
TZOFFSETFROM:-0600
TZOFFSETTO:-0500
TZNAME:CDT
DTSTART:20180311T080000
END:DAYLIGHT
BEGIN:STANDARD
TZOFFSETFROM:-0500
TZOFFSETTO:-0600
TZNAME:CST
DTSTART:20181104T070000
END:STANDARD
BEGIN:DAYLIGHT
TZOFFSETFROM:-0600
TZOFFSETTO:-0500
TZNAME:CDT
DTSTART:20190310T080000
END:DAYLIGHT
BEGIN:STANDARD
TZOFFSETFROM:-0500
TZOFFSETTO:-0600
TZNAME:CST
DTSTART:20191103T070000
END:STANDARD
BEGIN:DAYLIGHT
TZOFFSETFROM:-0600
TZOFFSETTO:-0500
TZNAME:CDT
DTSTART:20200308T080000
END:DAYLIGHT
BEGIN:STANDARD
TZOFFSETFROM:-0500
TZOFFSETTO:-0600
TZNAME:CST
DTSTART:20201101T070000
END:STANDARD
END:VTIMEZONE
BEGIN:VEVENT
DTSTART;TZID=America/Chicago:20190621T093000
DTEND;TZID=America/Chicago:20190621T100000
DTSTAMP:20260424T090041
CREATED:20190524T182903Z
LAST-MODIFIED:20190524T182903Z
UID:6288-1561109400-1561111200@jeffersonmatters.org
SUMMARY:Java & Juice at Congregate Meals
DESCRIPTION:All are invited to attend!
URL:https://jeffersonmatters.org/event/java-juice-at-congregate-meals/
LOCATION:Congregate Meals\, 401 W Greenewood\, Jefferson\, IA\, 50129
CATEGORIES:Java & Juice
ORGANIZER;CN="Greene County Chamber & Tourism":MAILTO:sheilah@greenecountyiowa.com
END:VEVENT
BEGIN:VEVENT
DTSTART;TZID=America/Chicago:20190626T121500
DTEND;TZID=America/Chicago:20190626T123000
DTSTAMP:20260424T090041
CREATED:20190604T173749Z
LAST-MODIFIED:20190604T173749Z
UID:6408-1561551300-1561552200@jeffersonmatters.org
SUMMARY:Chews Jefferson at Doc's Stadium
DESCRIPTION:“Harmony” Hamburger Slider for $5. \nCall ahead to order at 386-2111 and pick up in time to listen to Tower Tunes Live Concert from 12:15 – 12:30 pm.
URL:https://jeffersonmatters.org/event/chews-jefferson-at-docs-stadium/
LOCATION:Doc’s Stadium\, 113 N Chestnut\, Jefferson\, IA\, 50129
CATEGORIES:Jefferson Matters: Main Street,Promotion
END:VEVENT
BEGIN:VEVENT
DTSTART;TZID=America/Chicago:20190628T093000
DTEND;TZID=America/Chicago:20190628T100000
DTSTAMP:20260424T090041
CREATED:20190524T183047Z
LAST-MODIFIED:20190524T183047Z
UID:6291-1561714200-1561716000@jeffersonmatters.org
SUMMARY:Java & Juice at Landus Cooperative
DESCRIPTION:All are invited to attend!
URL:https://jeffersonmatters.org/event/java-juice-at-landus-cooperative/
LOCATION:Landus Cooperative\, 1500 N Mulberry St.\, Jefferson\, IA\, 50129
CATEGORIES:Java & Juice
ORGANIZER;CN="Greene County Chamber & Tourism":MAILTO:sheilah@greenecountyiowa.com
END:VEVENT
BEGIN:VEVENT
DTSTART;TZID=America/Chicago:20190630T080000
DTEND;TZID=America/Chicago:20190630T170000
DTSTAMP:20260424T090041
CREATED:20190630T191118Z
LAST-MODIFIED:20190630T191118Z
UID:6572-1561881600-1561914000@jeffersonmatters.org
SUMMARY:Chews Jefferson at Peony Restaurant
DESCRIPTION:Please call the day ahead at 386-3928.
URL:https://jeffersonmatters.org/event/chews-jefferson-at-peony-restaurant/
LOCATION:Mahanay Memorial Carillon Tower\, 100 E Lincoln Way\, Jefferson\, IA\, 50129\, United States
END:VEVENT
BEGIN:VEVENT
DTSTART;TZID=America/Chicago:20190703T121500
DTEND;TZID=America/Chicago:20190703T123000
DTSTAMP:20260424T090041
CREATED:20190630T190458Z
LAST-MODIFIED:20190630T190458Z
UID:6564-1562156100-1562157000@jeffersonmatters.org
SUMMARY:Chews Jefferson at Uptown Cafe
DESCRIPTION:Call ahead to order 386-4979.
URL:https://jeffersonmatters.org/event/chews-jefferson-at-uptown-cafe-2/
LOCATION:Mahanay Memorial Carillon Tower\, 100 E Lincoln Way\, Jefferson\, IA\, 50129\, United States
CATEGORIES:Promotion
END:VEVENT
BEGIN:VEVENT
DTSTART;TZID=America/Chicago:20190705T093000
DTEND;TZID=America/Chicago:20190705T100000
DTSTAMP:20260424T090041
CREATED:20190619T194205Z
LAST-MODIFIED:20190619T194205Z
UID:6441-1562319000-1562320800@jeffersonmatters.org
SUMMARY:Java & Juice at New Hope Bargain Shoppe
DESCRIPTION:The public is invited to attend!
URL:https://jeffersonmatters.org/event/java-juice-at-new-hope-bargain-shoppe/
LOCATION:New Hope Bargain Shoppe\, 106 N Wilson\, Jefferson\, IA\, 50129\, United States
CATEGORIES:Economic Vitality,Java & Juice,Jefferson Matters: Main Street
ORGANIZER;CN="Scott Weber":MAILTO:scott@ungerins.com
END:VEVENT
BEGIN:VEVENT
DTSTART;TZID=America/Chicago:20190710T121500
DTEND;TZID=America/Chicago:20190710T123000
DTSTAMP:20260424T090041
CREATED:20190630T190654Z
LAST-MODIFIED:20190630T190654Z
UID:6566-1562760900-1562761800@jeffersonmatters.org
SUMMARY:Chews Jefferson at Hy-Vee Market Grille
DESCRIPTION:Call ahead to order at 386-4153
URL:https://jeffersonmatters.org/event/chews-jefferson-at-hy-vee-market-grille/
LOCATION:Mahanay Memorial Carillon Tower\, 100 E Lincoln Way\, Jefferson\, IA\, 50129\, United States
CATEGORIES:Promotion
END:VEVENT
BEGIN:VEVENT
DTSTART;TZID=America/Chicago:20190712T093000
DTEND;TZID=America/Chicago:20190712T100000
DTSTAMP:20260424T090041
CREATED:20190619T194403Z
LAST-MODIFIED:20190619T194403Z
UID:6443-1562923800-1562925600@jeffersonmatters.org
SUMMARY:Java & Juice at MacDonald Insurance
DESCRIPTION:The public is invited to attend!
URL:https://jeffersonmatters.org/event/java-juice-at-macdonald-insurance/
LOCATION:MacDonald Insurance\, 115 W Lincoln Way\, Jefferson\, IA\, 50129
ORGANIZER;CN="Scott Weber":MAILTO:scott@ungerins.com
END:VEVENT
BEGIN:VEVENT
DTSTART;TZID=America/Chicago:20190717T121500
DTEND;TZID=America/Chicago:20190717T123000
DTSTAMP:20260424T090041
CREATED:20190630T190835Z
LAST-MODIFIED:20190711T015939Z
UID:6568-1563365700-1563366600@jeffersonmatters.org
SUMMARY:Chews Jefferson at Breadeaux Pizza
DESCRIPTION:Call ahead to order at 386-2039.
URL:https://jeffersonmatters.org/event/chews-jefferson-at-breadeaux-pizza-2/
LOCATION:Mahanay Memorial Carillon Tower\, 100 E Lincoln Way\, Jefferson\, IA\, 50129\, United States
END:VEVENT
BEGIN:VEVENT
DTSTART;TZID=America/Chicago:20190718T093000
DTEND;TZID=America/Chicago:20190718T110000
DTSTAMP:20260424T090041
CREATED:20190619T195626Z
LAST-MODIFIED:20190625T174457Z
UID:6450-1563442200-1563447600@jeffersonmatters.org
SUMMARY:Marketing 3-4-5 Workshop in Jefferson
DESCRIPTION:Brian Ostrovsky is the CEO of his own company called Locable.  Main Street Iowa has offered Brian’s services to 5 Iowa communities who want to grow in their website and social media promotions.  Brian will present a workshop on Thursday\, July 18 from 9:30 – 11 am at the Greene County Community Center and then offer one-on-one sessions in the afternoon at the Main Street Office. \nThis workshop is offered free of charge and Jefferson Matters: Main Street is encouraging organizations and businesses who have a website and/or utilize social media to attend.  Please contact Peg at director@jeffersonmatters.org to sign up for a 30 minute one-on-one consultation in the afternoon. \n \nLocable – A Web Platform for Local Marketing\, Cross-Promotion\, and Collaboration.
URL:https://jeffersonmatters.org/event/website-social-media-workshop/
LOCATION:Greene County Community Center\, 204 W Harrison\, Jefferson\, IA\, 50129\, United States
CATEGORIES:Economic Vitality,Jefferson Matters: Main Street,Promotion
END:VEVENT
BEGIN:VEVENT
DTSTART;TZID=America/Chicago:20190719T093000
DTEND;TZID=America/Chicago:20190719T100000
DTSTAMP:20260424T090041
CREATED:20190619T194551Z
LAST-MODIFIED:20190619T194551Z
UID:6446-1563528600-1563530400@jeffersonmatters.org
SUMMARY:Java & Juice at Greene County Historical Museum
DESCRIPTION:The public is invited to attend!
URL:https://jeffersonmatters.org/event/java-juice-at-greene-county-historical-museum-2/
LOCATION:Greene County Historical Museum\, 219 E Lincoln Way\, Jefferson\, IA\, 50129\, United States
CATEGORIES:Economic Vitality,Java & Juice,Jefferson Matters: Main Street
END:VEVENT
BEGIN:VEVENT
DTSTART;TZID=America/Chicago:20190724T121500
DTEND;TZID=America/Chicago:20190724T123000
DTSTAMP:20260424T090041
CREATED:20190630T191005Z
LAST-MODIFIED:20190711T015836Z
UID:6570-1563970500-1563971400@jeffersonmatters.org
SUMMARY:Chews Jefferson at Doc's Stadium
DESCRIPTION:Call ahead to order at 386-2111.
URL:https://jeffersonmatters.org/event/chews-jefferson-at-docs-stadium-2/
LOCATION:Mahanay Memorial Carillon Tower\, 100 E Lincoln Way\, Jefferson\, IA\, 50129\, United States
CATEGORIES:Promotion
END:VEVENT
BEGIN:VEVENT
DTSTART;TZID=America/Chicago:20190726T093000
DTEND;TZID=America/Chicago:20190726T100000
DTSTAMP:20260424T090041
CREATED:20190619T194659Z
LAST-MODIFIED:20190619T194659Z
UID:6448-1564133400-1564135200@jeffersonmatters.org
SUMMARY:Java & Juice at Sierra Community Theatre
DESCRIPTION:The public is invited to attend!
URL:https://jeffersonmatters.org/event/java-juice-at-sierra-community-theatre-2/
LOCATION:Sierra Community Theatre\, 212 E State\, Jefferson\, IA\, 50129\, United States
CATEGORIES:Economic Vitality,Java & Juice,Jefferson Matters: Main Street
END:VEVENT
BEGIN:VEVENT
DTSTART;TZID=America/Chicago:20190731T121500
DTEND;TZID=America/Chicago:20190731T123000
DTSTAMP:20260424T090041
CREATED:20190711T020300Z
LAST-MODIFIED:20190711T020300Z
UID:6602-1564575300-1564576200@jeffersonmatters.org
SUMMARY:Chews Jefferson at Peony
DESCRIPTION:
URL:https://jeffersonmatters.org/event/chews-jefferson-at-peony/
LOCATION:Mahanay Memorial Carillon Tower\, 100 E Lincoln Way\, Jefferson\, IA\, 50129\, United States
CATEGORIES:Jefferson Matters: Main Street
END:VEVENT
BEGIN:VEVENT
DTSTART;TZID=America/Chicago:20190802T093000
DTEND;TZID=America/Chicago:20190802T100000
DTSTAMP:20260424T090041
CREATED:20190723T140435Z
LAST-MODIFIED:20190723T140435Z
UID:6617-1564738200-1564740000@jeffersonmatters.org
SUMMARY:Java & Juice at Jefferson Community Golf Course
DESCRIPTION:The public is invited to attend!
URL:https://jeffersonmatters.org/event/java-juice-at-jefferson-community-golf-course/
LOCATION:Jefferson Community Golf Course\, 501 W Greenewood Rd.\, Jefferson\, IA\, 50129
CATEGORIES:Java & Juice
ORGANIZER;CN="Greene County Chamber & Tourism":MAILTO:sheilah@greenecountyiowa.com
END:VEVENT
BEGIN:VEVENT
DTSTART;TZID=America/Chicago:20190809T093000
DTEND;TZID=America/Chicago:20190809T100000
DTSTAMP:20260424T090041
CREATED:20190723T140632Z
LAST-MODIFIED:20190723T140632Z
UID:6620-1565343000-1565344800@jeffersonmatters.org
SUMMARY:Java & Juice at Mid-Iowa Insurance
DESCRIPTION:The public is invited to attend!
URL:https://jeffersonmatters.org/event/java-juice-at-mid-iowa-insurance/
LOCATION:Mid-Iowa Insurance\, 110 E State St.\, Jefferson\, IA\, 50129
CATEGORIES:Java & Juice
ORGANIZER;CN="Greene County Chamber & Tourism":MAILTO:sheilah@greenecountyiowa.com
END:VEVENT
BEGIN:VEVENT
DTSTART;TZID=America/Chicago:20190816T093000
DTEND;TZID=America/Chicago:20190816T100000
DTSTAMP:20260424T090041
CREATED:20190723T140801Z
LAST-MODIFIED:20190723T140801Z
UID:6623-1565947800-1565949600@jeffersonmatters.org
SUMMARY:Java & Juice at Amazing Race for Charity event
DESCRIPTION:The public is invited to The Welcome Center to hear about this upcoming event.
URL:https://jeffersonmatters.org/event/java-juice-at-amazing-race-for-charity-event/
LOCATION:The Welcome Center\, 201 E Lincoln Way\, Jefferson\, IA\, 50129\, United States
CATEGORIES:Java & Juice
ORGANIZER;CN="Greene County Chamber & Tourism":MAILTO:sheilah@greenecountyiowa.com
END:VEVENT
BEGIN:VEVENT
DTSTART;TZID=America/Chicago:20190823T093000
DTEND;TZID=America/Chicago:20190823T100000
DTSTAMP:20260424T090041
CREATED:20190723T140936Z
LAST-MODIFIED:20190723T140936Z
UID:6625-1566552600-1566554400@jeffersonmatters.org
SUMMARY:Java & Juice at the A.R.C. Food Pantry
DESCRIPTION:The public is invited to attend at this new location.
URL:https://jeffersonmatters.org/event/java-juice-at-the-a-r-c-food-pantry/
LOCATION:ARC Food Pantry\, 1006 N Vine St.\, Jefferson\, IA\, 50129
CATEGORIES:Java & Juice
ORGANIZER;CN="Greene County Chamber & Tourism":MAILTO:sheilah@greenecountyiowa.com
END:VEVENT
BEGIN:VEVENT
DTSTART;TZID=America/Chicago:20190830T093000
DTEND;TZID=America/Chicago:20190830T100000
DTSTAMP:20260424T090041
CREATED:20190723T141051Z
LAST-MODIFIED:20190723T142010Z
UID:6628-1567157400-1567159200@jeffersonmatters.org
SUMMARY:Java & Juice at Hy-Vee
DESCRIPTION:The public is invited to attend!
URL:https://jeffersonmatters.org/event/java-juice-at-hy-vee/
LOCATION:Hy-Vee\, 106 W Washington St.\, Jefferson\, IA\, 50129
CATEGORIES:Java & Juice
ORGANIZER;CN="Greene County Chamber & Tourism":MAILTO:sheilah@greenecountyiowa.com
END:VEVENT
BEGIN:VEVENT
DTSTART;TZID=America/Chicago:20190906T093000
DTEND;TZID=America/Chicago:20190906T100000
DTSTAMP:20260424T090041
CREATED:20190819T180432Z
LAST-MODIFIED:20190819T181128Z
UID:6831-1567762200-1567764000@jeffersonmatters.org
SUMMARY:Java & Juice at Prairie Lakes AEA Upper Loft
DESCRIPTION:The public is invited to attend! 
URL:https://jeffersonmatters.org/event/java-juice-at-prairie-lakes-aea-upper-loft/
LOCATION:Prairie Lakes AEA\, 118 E State\, Jefferson\, IA\, 50129\, United States
CATEGORIES:Economic Vitality,Jefferson Matters: Main Street
ATTACH;FMTTYPE=image/jpeg:https://jeffersonmatters.org/wp-content/uploads/2019/08/Prairie-Lakes-AEA.jpg
ORGANIZER;CN="Scott Weber":MAILTO:scott@ungerins.com
END:VEVENT
BEGIN:VEVENT
DTSTART;TZID=America/Chicago:20190907T090000
DTEND;TZID=America/Chicago:20190907T130000
DTSTAMP:20260424T090041
CREATED:20190723T143716Z
LAST-MODIFIED:20190723T143716Z
UID:6631-1567846800-1567861200@jeffersonmatters.org
SUMMARY:Amazing Race for Charity - Animal Shelter
DESCRIPTION:Teams of 2 will compete in challenges in downtown Jefferson with all proceeds going to the Greene County Animal Shelter project.  All information on registration and event plans are on the website.
URL:https://jeffersonmatters.org/event/amazing-race-for-charity-animal-shelter/
LOCATION:Jefferson Iowa\, 1000 W Lincoln Way\, Jefferson\, IA\, 50129
CATEGORIES:Jefferson Matters: Main Street,Promotion
END:VEVENT
BEGIN:VEVENT
DTSTART;TZID=America/Chicago:20190907T160000
DTEND;TZID=America/Chicago:20190907T203000
DTSTAMP:20260424T090041
CREATED:20190723T144046Z
LAST-MODIFIED:20190904T223735Z
UID:6635-1567872000-1567888200@jeffersonmatters.org
SUMMARY:The Jefferson Forge Grand Opening
DESCRIPTION:The Jefferson Forge will hold an open house for the public on Saturday\, Sept. 7. \n4 p.m. – Ribbon cutting \n4-7 p.m. – Guided tours of The Forge at 204 E State \n5-6:30 p.m. – Free community BBQ on courthouse square \nExtended hours at Welcome Center\, Mahanay Bell Tower\, RVP~1875 and many shops in the downtown. \n7 p.m. – Speeches including Linc Kroeger\, Chris Deal\, Gov. Kim Reynolds\, Congressman Ro Khanna and other guests of Accenture and Pillar Technology. Located on north side of courthouse.
URL:https://jeffersonmatters.org/event/the-jefferson-forge-grand-opening/
LOCATION:The Jefferson Forge\, 204 E State\, Jefferson\, IA\, 50129
CATEGORIES:Economic Vitality,Jefferson Matters: Main Street
END:VEVENT
BEGIN:VEVENT
DTSTART;TZID=America/Chicago:20190913T093000
DTEND;TZID=America/Chicago:20190913T100000
DTSTAMP:20260424T090041
CREATED:20190819T180617Z
LAST-MODIFIED:20190819T181214Z
UID:6837-1568367000-1568368800@jeffersonmatters.org
SUMMARY:Java & Juice at Unger Insurance
DESCRIPTION:The public  is  invited  to  attend.
URL:https://jeffersonmatters.org/event/java-juice-at-unger-insurance/
LOCATION:Unger Insurance\, 103 E Lincoln Way\, Jefferson\, IA\, 50129\, United States
CATEGORIES:Economic Vitality,Java & Juice,Jefferson Matters: Main Street
ATTACH;FMTTYPE=image/jpeg:https://jeffersonmatters.org/wp-content/uploads/2019/08/Unger-Insurance.jpg
ORGANIZER;CN="Scott Weber":MAILTO:scott@ungerins.com
END:VEVENT
BEGIN:VEVENT
DTSTART;TZID=America/Chicago:20190917T183000
DTEND;TZID=America/Chicago:20190917T200000
DTSTAMP:20260424T090041
CREATED:20190723T150447Z
LAST-MODIFIED:20190730T145201Z
UID:6639-1568745000-1568750400@jeffersonmatters.org
SUMMARY:Big Dream Gathering with Mitch Matthews
DESCRIPTION:The public is invited to this free event facilitated by Mitch Matthews of the popular Dream. Think. Do. podcast in Jefferson.
URL:https://jeffersonmatters.org/event/big-dream-gathering-with-mitch-matthews/
LOCATION:Greene Room at Wild Rose Casino\, 777 Wild Rose Drive\, Jefferson\, IA\, 50129
CATEGORIES:Jefferson Matters: Main Street
ATTACH;FMTTYPE=image/jpeg:https://jeffersonmatters.org/wp-content/uploads/2019/07/Big-Dream-Gathering.jpg
END:VEVENT
BEGIN:VEVENT
DTSTART;TZID=America/Chicago:20190920T093000
DTEND;TZID=America/Chicago:20190920T100000
DTSTAMP:20260424T090041
CREATED:20190819T180907Z
LAST-MODIFIED:20190819T180907Z
UID:6839-1568971800-1568973600@jeffersonmatters.org
SUMMARY:Java & Juice at Edward Jones - Cole Jaeschke
DESCRIPTION:The public is invited to attend!
URL:https://jeffersonmatters.org/event/java-juice-at-edward-jones-cole-jaeschke/
LOCATION:Edward Jones – Cole Jaeschke\, 216 N Wilson\, Jefferson\, IA\, 50129
CATEGORIES:Economic Vitality,Java & Juice,Jefferson Matters: Main Street
ATTACH;FMTTYPE=image/jpeg:https://jeffersonmatters.org/wp-content/uploads/2019/08/Edward-Jones-Cole.jpg
ORGANIZER;CN="Scott Weber":MAILTO:scott@ungerins.com
END:VEVENT
BEGIN:VEVENT
DTSTART;TZID=America/Chicago:20190927T093000
DTEND;TZID=America/Chicago:20190927T100000
DTSTAMP:20260424T090041
CREATED:20190819T181040Z
LAST-MODIFIED:20190819T181040Z
UID:6842-1569576600-1569578400@jeffersonmatters.org
SUMMARY:Java & Juice at The Forge
DESCRIPTION:The public is invited to attend!
URL:https://jeffersonmatters.org/event/java-juice-at-the-forge/
LOCATION:The Forge\, 204 E State\, Jefferson\, IA\, 50129
CATEGORIES:Economic Vitality,Java & Juice,Jefferson Matters: Main Street
ATTACH;FMTTYPE=image/jpeg:https://jeffersonmatters.org/wp-content/uploads/2019/08/The-Forge.jpg
ORGANIZER;CN="Scott Weber":MAILTO:scott@ungerins.com
END:VEVENT
BEGIN:VEVENT
DTSTART;VALUE=DATE:20191001
DTEND;VALUE=DATE:20191102
DTSTAMP:20260424T090041
CREATED:20190924T170011Z
LAST-MODIFIED:20200930T172536Z
UID:7268-1569888000-1572652799@jeffersonmatters.org
SUMMARY:Scarecrow Invasion~Time Warp Edition
DESCRIPTION:Get ready for an invasion – a Scarecrow Invasion!  The Tower View Team would like the community to participate in this new\, fun\, and creative installation for the month of October. \nScarecrowInvasionFlyer \nFor this first year\, the theme is Scarecrow Invasion – Movie Edition\, so scarecrows should be dressed up as your favorite movie character or characters.  Think Scarlett O’Hara from Gone with the Wind\, John Wayne from True Grit\, Darth Vader from Star Wars!  The committee would like to see a wide variety of scarecrows so think outside the box.   Participants are asked to supply their own materials for the scarecrows. \nIn order to coordinate locations in the Main Street District\, the TVT asks that an email is sent to director@jeffersonmatters.org with name of contact person\, the movie character(s) planned\, and any preference of location.  The scarecrows can be sitting\, standing\, hanging around on the perimeter of the square and beyond the next few blocks.  Through the email communication\, locations will be determined.  The committee will attach a sign on each scarecrow with the sponsoring name.  Angie Gingery and Amy Roberts are co-chairing this event along with support from the members of the Tower View Team. \nThe scarecrows should be set in place on the evening of Monday\, Sept. 30 so on Tuesday\, October 1\, residents and visitors will experience this SCARECROW INVASION in Jefferson’s Main Street District.  The scarecrows will remain in place until November 1.  The Tower View Team expects to draw extra visitors during the month of October through this project. \nA Facebook Group page called Scarecrow Invasion~Movie Edition will have posted pictures of the scarecrows with the opportunity for voting.  The popular vote winner will be awarded a trophy during Trick or Treat Around the Square on Thursday\, October 24. \n \nTow
URL:https://jeffersonmatters.org/event/scarecrow-invasionmovie-edition/
LOCATION:Jefferson Iowa\, 1000 W Lincoln Way\, Jefferson\, IA\, 50129
CATEGORIES:Jefferson Matters: Main Street,Tower View Team
ATTACH;FMTTYPE=image/png:https://jeffersonmatters.org/wp-content/uploads/2019/09/headline-pic.png
END:VEVENT
BEGIN:VEVENT
DTSTART;TZID=America/Chicago:20191004T093000
DTEND;TZID=America/Chicago:20191004T100000
DTSTAMP:20260424T090041
CREATED:20190918T165553Z
LAST-MODIFIED:20190923T204601Z
UID:7141-1570181400-1570183200@jeffersonmatters.org
SUMMARY:Java & Juice for Art on the Square
DESCRIPTION:Learn about the Art on the Square event coming up on Oct. 12 at Java & Juice at The Welcome Center.
URL:https://jeffersonmatters.org/event/java-juice-for-art-on-the-square/
LOCATION:The Welcome Center\, 201 E Lincoln Way\, Jefferson\, IA\, 50129\, United States
CATEGORIES:Java & Juice
ATTACH;FMTTYPE=image/jpeg:https://jeffersonmatters.org/wp-content/uploads/2019/09/Art-on-the-Square-event.jpg
ORGANIZER;CN="Greene County Chamber & Tourism":MAILTO:sheilah@greenecountyiowa.com
END:VEVENT
BEGIN:VEVENT
DTSTART;TZID=America/Chicago:20191011T093000
DTEND;TZID=America/Chicago:20191011T100000
DTSTAMP:20260424T090041
CREATED:20190918T170952Z
LAST-MODIFIED:20190923T204518Z
UID:7143-1570786200-1570788000@jeffersonmatters.org
SUMMARY:Java & Juice at Greene Co. Genealogy Society
DESCRIPTION:The public is invite the Jefferson Public Library to hear about the Genealogy Society.
URL:https://jeffersonmatters.org/event/java-juice-at-greene-co-genealogy-society/
LOCATION:Jefferson Public Library\, 200 W Lincoln Way\, Jefferson\, Iowa\, 50129
CATEGORIES:Java & Juice
ATTACH;FMTTYPE=image/jpeg:https://jeffersonmatters.org/wp-content/uploads/2019/09/Genealogy.jpg
ORGANIZER;CN="Greene County Chamber & Tourism":MAILTO:sheilah@greenecountyiowa.com
END:VEVENT
BEGIN:VEVENT
DTSTART;TZID=America/Chicago:20191012T100000
DTEND;TZID=America/Chicago:20191012T160000
DTSTAMP:20260424T090041
CREATED:20190725T215941Z
LAST-MODIFIED:20190924T165602Z
UID:6752-1570874400-1570896000@jeffersonmatters.org
SUMMARY:Art on the Square
DESCRIPTION:To celebrate the art found in Jefferson\, we are planning our first annual Art on the Square in Jefferson. The fair will be held on Saturday\, Oct. 12 from 10 a.m. – 4 p.m.  The venue is the historic Greene County Courthouse grounds. Exhibitors will have easy access to the area and parking is close by. Music\, food\, and drinks are planned to enhance the event. We chose this weekend to coincide with Deal’s Orchard Fall Festival. This long-standing event brings thousands of people to our area\, and we want to encourage folks to enjoy all we have to offer in Jefferson. Deal’s is enthusiastically supporting and promoting our event! \nAnyone interested in exhibiting their art is encouraged to apply.  As of Oct. 1\, there are 20 artists will booths planning to be involved. Several local food trucks will be here.  Volunteers will be needed\, so be sure to hold this date on your calendar! \nArtists and vendors can find information on Mainstreet Jefferson’s facebook page\, Iowa Art’s Council “Call to Artists” page\, as well as by contacting Ginny Showman at artonthesquarejefferson@gmail.com or 515-314-4656. \n \nArt on the Square application \nArt on the Square rules \nArt on the Square rules \nArt on the Square musician application (2) \nArt on the Square musician application (2) \nArt on the Square food drink vendor application (2) \nArt on the Square food drink vendor application (2) \nArt on the Square application
URL:https://jeffersonmatters.org/event/art-on-the-square/
LOCATION:Greene County Courthouse\, 114 N Chestnut\, Jefferson\, IA\, 50129\, United States
CATEGORIES:Jefferson Matters: Main Street,Tower View Team
ATTACH;FMTTYPE=image/jpeg:https://jeffersonmatters.org/wp-content/uploads/2019/06/Art-on-the-Square-logo.jpg
END:VEVENT
END:VCALENDAR